BEGIN:VCALENDAR
VERSION:2.0
PRODID:-//ChamberMaster//Event Calendar 2.0//EN
METHOD:PUBLISH
X-PUBLISHED-TTL:P1H
REFRESH-INTERVAL:P1H
CALSCALE:GREGORIAN
BEGIN:VTIMEZONE
TZID:America/Chicago
BEGIN:DAYLIGHT
RRULE:FREQ=YEARLY;BYMONTH=3;BYDAY=2SU
DTSTART:20070101T000000
TZOFFSETFROM:-0600
TZOFFSETTO:-0500
TZNAME:Central Daylight Time
END:DAYLIGHT
BEGIN:STANDARD
RRULE:FREQ=YEARLY;BYMONTH=11;BYDAY=1SU
DTSTART:20070101T000000
TZOFFSETFROM:-0500
TZOFFSETTO:-0600
TZNAME:Central Standard Time
END:STANDARD
END:VTIMEZONE
BEGIN:VEVENT
DTSTART;TZID=America/Chicago:20250308T210000
DTEND;TZID=America/Chicago:20250308T230000
X-MICROSOFT-CDO-ALLDAYEVENT:FALSE
SUMMARY:SnowBull After Party: StumpTown
DESCRIPTION:Not ready to go home when the SnowBull dust settles? no problem - your SnowBull ticket is your invitation to the official afterparty with live music from the StumpTown.No ticket? No worries: Just $5 will get you in to this exclusive (21 and over) party!SnowBull tickets are available online and at Memorial Auditorium box office. \nFor more information\, follow SnowBull on Facebook or visit:burlingtonsnowbull.com
X-ALT-DESC;FMTTYPE=text/html:<!DOCTYPE html><html><head><title></title></head><body aria-disabled="false"><p style="text-align: left\;">Not ready to go home when the SnowBull dust settles? no problem - your SnowBull ticket is your invitation to the official afterparty with live music from the StumpTown.</p><p>No ticket? No worries: Just $5 will get you in to this exclusive (21 and over) party!</p><p>SnowBull tickets are available <a fr-original-style="" href="https://burlingtonsnowbull.com/tickets/" rel="noopener noreferrer" style="user-select: auto\;" target="_blank"><span style="color: rgb(84\, 172\, 210)\;">online</span></a> and at Memorial Auditorium box office.&nbsp\;</p><p><br></p><p>For more information\, follow <a fr-original-style="" href="https://www.facebook.com/burlingtonsnowbull" rel="noopener noreferrer" style="user-select: auto\;" target="_blank"><span style="color: rgb(84\, 172\, 210)\;">SnowBull&nbsp\;</span></a>on Facebook or visit:</p><p><a fr-original-style="" href="https://burlingtonsnowbull.com/" rel="noopener noreferrer" style="user-select: auto\;" target="_blank"><span style="color: rgb(84\, 172\, 210)\;">burlingtonsnowbull.com</span></a><br><br><br></p></body></html>
LOCATION:200 North Front St Burlington IA 52601
UID:e.2001.1145712
SEQUENCE:3
DTSTAMP:20260419T134222Z
URL:https://greaterburlingtonpartnership.growthzoneapp.com/eventcalendar/Details/snowbull-after-party-stumptown-1332903?sourceTypeId=Hub
END:VEVENT
END:VCALENDAR
